BEGIN:VCALENDAR
VERSION:2.0
PRODID:-//ChamberMaster//Event Calendar 2.0//EN
METHOD:PUBLISH
X-PUBLISHED-TTL:P3D
REFRESH-INTERVAL:P3D
CALSCALE:GREGORIAN
BEGIN:VEVENT
DTSTART;VALUE=DATE:20170508
DTEND;VALUE=DATE:20170509
TRANSP:TRANSPARENT
X-MICROSOFT-CDO-ALLDAYEVENT:TRUE
SUMMARY:Green Bay Steamfitters
DESCRIPTION:
X-ALT-DESC;FMTTYPE=text/html:
LOCATION:Loccal 400 in Kaukauna
UID:e.9245.136
SEQUENCE:3
DTSTAMP:20260424T203715Z
URL:http://omswi.memberzone.com/events/details/green-bay-steamfitters-05-08-2017-136
END:VEVENT

END:VCALENDAR
